BEGIN:VCALENDAR
PRODID:-//eluceo/ical//2.0/EN
VERSION:2.0
CALSCALE:GREGORIAN
BEGIN:VEVENT
UID:435df3df1a6ce2b2d45d977723794d6e
DTSTAMP:20260421T191909Z
SUMMARY:RYLA 2024 - Entdecke und entwickle deine Persönlichkeit
DESCRIPTION:Talare: 
URL:https://rotary2000.ch/sv/agenda/show/150729
DTSTART;TZID=Europe/Zurich:20240425T100000
DTEND;TZID=Europe/Zurich:20240428T150000
LOCATION:Stump's Alpenrose\, Wildhaus
CATEGORIES:Rotary
END:VEVENT
BEGIN:VTIMEZONE
TZID:Europe/Zurich
BEGIN:DAYLIGHT
DTSTART:20240425T100000
TZNAME:CEST
TZOFFSETTO:+0200
TZOFFSETFROM:+0200
END:DAYLIGHT
END:VTIMEZONE
END:VCALENDAR
