BEGIN:VCALENDAR
PRODID:-//eluceo/ical//2.0/EN
VERSION:2.0
CALSCALE:GREGORIAN
BEGIN:VEVENT
UID:b441505c6cc79ebeb5eb5db626ea2fbd
DTSTAMP:20260422T023006Z
SUMMARY:Generalversammlung 2 des RC Appenzell
DESCRIPTION:Site internet: http://www.hotelzurlinde.ch\nConférencier(s): P
 räsident Rot. Charles Lehmann
URL:https://rotary-appenzell.ch/fr/agenda/show/140423
DTSTART;TZID=Europe/Zurich:20220624T121500
DTEND;TZID=Europe/Zurich:20220624T121500
LOCATION:Hotel zur Linde\, Bühlerstrasse 87\, 9053 Teufen AR
CATEGORIES:Rotary
END:VEVENT
BEGIN:VTIMEZONE
TZID:Europe/Zurich
BEGIN:DAYLIGHT
DTSTART:20220624T121500
TZNAME:CEST
TZOFFSETTO:+0200
TZOFFSETFROM:+0200
END:DAYLIGHT
END:VTIMEZONE
END:VCALENDAR
