BEGIN:VCALENDAR
PRODID:-//eluceo/ical//2.0/EN
VERSION:2.0
CALSCALE:GREGORIAN
BEGIN:VEVENT
UID:714de888e7a82b1a0d1a47e1ef9ccb15
DTSTAMP:20260424T091318Z
SUMMARY:Plauderlunch
DESCRIPTION:Site internet: http://www.hotelzurlinde.ch
URL:https://rotary-appenzell.ch/fr/agenda/show/140406
DTSTART;TZID=Europe/Zurich:20220513T121500
DTEND;TZID=Europe/Zurich:20220513T121500
LOCATION:Hotel zur Linde\, Bühlerstrasse 87\, 9053 Teufen AR
CATEGORIES:Rotary
END:VEVENT
BEGIN:VTIMEZONE
TZID:Europe/Zurich
BEGIN:DAYLIGHT
DTSTART:20220513T121500
TZNAME:CEST
TZOFFSETTO:+0200
TZOFFSETFROM:+0200
END:DAYLIGHT
END:VTIMEZONE
END:VCALENDAR
