BEGIN:VCALENDAR
PRODID:-//eluceo/ical//2.0/EN
VERSION:2.0
CALSCALE:GREGORIAN
BEGIN:VEVENT
UID:9e7ecc24a81bab21e570434bcf01a2c8
DTSTAMP:20260424T090307Z
SUMMARY:Lunch mit Vortrag zum Thema Landesgemeindevorstellung
DESCRIPTION:Site internet: http://www.hotelzurlinde.ch
URL:https://rotary-appenzell.ch/fr/agenda/show/140396
DTSTART;TZID=Europe/Zurich:20220422T121500
DTEND;TZID=Europe/Zurich:20220422T121500
LOCATION:Hotel zur Linde\, Bühlerstrasse 87\, 9053 Teufen AR
CATEGORIES:Rotary
END:VEVENT
BEGIN:VTIMEZONE
TZID:Europe/Zurich
BEGIN:DAYLIGHT
DTSTART:20220422T121500
TZNAME:CEST
TZOFFSETTO:+0200
TZOFFSETFROM:+0200
END:DAYLIGHT
END:VTIMEZONE
END:VCALENDAR
