BEGIN:VCALENDAR
PRODID:-//eluceo/ical//2.0/EN
VERSION:2.0
CALSCALE:GREGORIAN
BEGIN:VEVENT
UID:402e6971fe75d8c41a733295930924a8
DTSTAMP:20260423T091229Z
SUMMARY:Plauderlunch
DESCRIPTION:
URL:https://rotary-appenzell.ch/es/agenda/show/46325
DTSTART;TZID=Europe/Zurich:20150327T121500
DTEND;TZID=Europe/Zurich:20150327T121500
LOCATION:Hotel Säntis\, Appenzell
CATEGORIES:Rotary
END:VEVENT
BEGIN:VTIMEZONE
TZID:Europe/Zurich
BEGIN:STANDARD
DTSTART:20150327T121500
TZNAME:CET
TZOFFSETTO:+0100
TZOFFSETFROM:+0100
END:STANDARD
END:VTIMEZONE
END:VCALENDAR
