BEGIN:VCALENDAR
PRODID:-//eluceo/ical//2.0/EN
VERSION:2.0
CALSCALE:GREGORIAN
BEGIN:VEVENT
UID:f1e5abd16a928a073443ed05d00ccaf4
DTSTAMP:20260423T094036Z
SUMMARY:Rotary-Stamm
DESCRIPTION:
URL:https://rotary-appenzell.ch/es/agenda/show/46320
DTSTART;TZID=Europe/Zurich:20150307T100000
DTEND;TZID=Europe/Zurich:20150307T100000
LOCATION:Restaurant Ebnet\, Herisau
CATEGORIES:Rotary
END:VEVENT
BEGIN:VTIMEZONE
TZID:Europe/Zurich
BEGIN:STANDARD
DTSTART:20150307T100000
TZNAME:CET
TZOFFSETTO:+0100
TZOFFSETFROM:+0100
END:STANDARD
END:VTIMEZONE
END:VCALENDAR
