BEGIN:VCALENDAR
PRODID:-//eluceo/ical//2.0/EN
VERSION:2.0
CALSCALE:GREGORIAN
BEGIN:VEVENT
UID:da9e9d23343e95721f6d364bd67cedd6
DTSTAMP:20260419T130713Z
SUMMARY:Plauderlunch
DESCRIPTION:
URL:https://rotary-appenzell.ch/es/agenda/show/46316
DTSTART;TZID=Europe/Zurich:20150220T121500
DTEND;TZID=Europe/Zurich:20150220T121500
LOCATION:Hotel zur Linde\, Teufen
CATEGORIES:Rotary
END:VEVENT
BEGIN:VTIMEZONE
TZID:Europe/Zurich
BEGIN:STANDARD
DTSTART:20150220T121500
TZNAME:CET
TZOFFSETTO:+0100
TZOFFSETFROM:+0100
END:STANDARD
END:VTIMEZONE
END:VCALENDAR
