BEGIN:VCALENDAR
PRODID:-//eluceo/ical//2.0/EN
VERSION:2.0
CALSCALE:GREGORIAN
BEGIN:VEVENT
UID:8e3b02d20f3b9ebe5463f52ffc073576
DTSTAMP:20260425T130226Z
SUMMARY:Adventskonzert
DESCRIPTION:Orador(es): Peter von Wienhardt (Klavier) und seine Musiker Kol
 legen Jeanine Thorpe (Violine)\, Lulzim Bucaliu (Klarinette) und Olfa Nies
 sing (Violoncello) freuen sich\, wieder wie in den zwei vergangenen Jahren
  de
URL:https://rotary-appenzell.ch/es/agenda/show/43849
DTSTART;TZID=Europe/Zurich:20141121T183000
DTEND;TZID=Europe/Zurich:20141121T183000
LOCATION:Lindensaal\, Teufen
CATEGORIES:Rotary
END:VEVENT
BEGIN:VTIMEZONE
TZID:Europe/Zurich
BEGIN:STANDARD
DTSTART:20141121T183000
TZNAME:CET
TZOFFSETTO:+0100
TZOFFSETFROM:+0100
END:STANDARD
END:VTIMEZONE
END:VCALENDAR
