BEGIN:VCALENDAR
PRODID:-//eluceo/ical//2.0/EN
VERSION:2.0
CALSCALE:GREGORIAN
BEGIN:VEVENT
UID:8c3c8fad755f0431d9ddca6839f04adf
DTSTAMP:20260423T135402Z
SUMMARY:Philosophie-Seminar für Anfänger
DESCRIPTION:Orador(es): Alfred Jäger
URL:https://rotary-appenzell.ch/es/agenda/show/43841
DTSTART;TZID=Europe/Zurich:20141018T143000
DTEND;TZID=Europe/Zurich:20141018T143000
LOCATION:-
CATEGORIES:Rotary
END:VEVENT
BEGIN:VTIMEZONE
TZID:Europe/Zurich
BEGIN:DAYLIGHT
DTSTART:20141018T143000
TZNAME:CEST
TZOFFSETTO:+0200
TZOFFSETFROM:+0200
END:DAYLIGHT
END:VTIMEZONE
END:VCALENDAR
