BEGIN:VCALENDAR
PRODID:-//eluceo/ical//2.0/EN
VERSION:2.0
CALSCALE:GREGORIAN
BEGIN:VEVENT
UID:9579a679290f0e44345fefe70f693367
DTSTAMP:20260421T090408Z
SUMMARY:Präsenzlunch
DESCRIPTION:
URL:https://rotary-appenzell.ch/es/agenda/show/20235
DTSTART;TZID=Europe/Zurich:20120302T121500
DTEND;TZID=Europe/Zurich:20120302T121500
LOCATION:Hotel zur Linde\, Teufen
CATEGORIES:Rotary
END:VEVENT
BEGIN:VTIMEZONE
TZID:Europe/Zurich
BEGIN:STANDARD
DTSTART:20120302T121500
TZNAME:CET
TZOFFSETTO:+0100
TZOFFSETFROM:+0100
END:STANDARD
END:VTIMEZONE
END:VCALENDAR
