BEGIN:VCALENDAR
PRODID:-//eluceo/ical//2.0/EN
VERSION:2.0
CALSCALE:GREGORIAN
BEGIN:VEVENT
UID:a31789af7ebcbf85d489bc5d8f9527b3
DTSTAMP:20260419T123723Z
SUMMARY:Lunch mit Referat «Startfeld»
DESCRIPTION:Orador(es): Isabel Schorer
URL:https://rotary-appenzell.ch/es/agenda/show/20231
DTSTART;TZID=Europe/Zurich:20120210T121500
DTEND;TZID=Europe/Zurich:20120210T121500
LOCATION:Hotel zur Linde\, Teufen
CATEGORIES:Rotary
END:VEVENT
BEGIN:VTIMEZONE
TZID:Europe/Zurich
BEGIN:STANDARD
DTSTART:20120210T121500
TZNAME:CET
TZOFFSETTO:+0100
TZOFFSETFROM:+0100
END:STANDARD
END:VTIMEZONE
END:VCALENDAR
