BEGIN:VCALENDAR
PRODID:-//eluceo/ical//2.0/EN
VERSION:2.0
CALSCALE:GREGORIAN
BEGIN:VEVENT
UID:c8eb731d8ce80fd13902735217ed64da
DTSTAMP:20260419T124031Z
SUMMARY:Lunch mit Referat: «Wandel im Gesundheitswesen – ab 2012 DRG\, d
 ie neue Spitalfinanzierung»
DESCRIPTION:Orador(es): Prof. Gächter / Peter Koch
URL:https://rotary-appenzell.ch/es/agenda/show/18487
DTSTART;TZID=Europe/Zurich:20110909T121500
DTEND;TZID=Europe/Zurich:20110909T121500
LOCATION:Hotel zur Linde\, Teufen
CATEGORIES:Rotary
END:VEVENT
BEGIN:VTIMEZONE
TZID:Europe/Zurich
BEGIN:DAYLIGHT
DTSTART:20110909T121500
TZNAME:CEST
TZOFFSETTO:+0200
TZOFFSETFROM:+0200
END:DAYLIGHT
END:VTIMEZONE
END:VCALENDAR
