BEGIN:VCALENDAR
PRODID:-//eluceo/ical//2.0/EN
VERSION:2.0
CALSCALE:GREGORIAN
BEGIN:VEVENT
UID:b50d2aecbe93a080cd6ff4b2b8dd3867
DTSTAMP:20260423T155102Z
SUMMARY:Präsenzapéro
DESCRIPTION:
URL:https://rotary-appenzell.ch/de/agenda/show/20238
DTSTART;TZID=Europe/Zurich:20120314T180000
DTEND;TZID=Europe/Zurich:20120314T180000
LOCATION:Idyllhotel Appenzellerhof\, Speicher
CATEGORIES:Rotary
END:VEVENT
BEGIN:VTIMEZONE
TZID:Europe/Zurich
BEGIN:STANDARD
DTSTART:20120314T180000
TZNAME:CET
TZOFFSETTO:+0100
TZOFFSETFROM:+0100
END:STANDARD
END:VTIMEZONE
END:VCALENDAR
