BEGIN:VCALENDAR
PRODID:-//eluceo/ical//2.0/EN
VERSION:2.0
CALSCALE:GREGORIAN
BEGIN:VEVENT
UID:d7b8521f1633a151c588ecb91ee50c46
DTSTAMP:20260423T173548Z
SUMMARY:Lunch mit Austauschstudentin Jade (Ohio)
DESCRIPTION:
URL:https://rotary-appenzell.ch/de/agenda/show/20237
DTSTART;TZID=Europe/Zurich:20120309T121500
DTEND;TZID=Europe/Zurich:20120309T121500
LOCATION:Hotel zur Linde\, Teufen
CATEGORIES:Rotary
END:VEVENT
BEGIN:VTIMEZONE
TZID:Europe/Zurich
BEGIN:STANDARD
DTSTART:20120309T121500
TZNAME:CET
TZOFFSETTO:+0100
TZOFFSETFROM:+0100
END:STANDARD
END:VTIMEZONE
END:VCALENDAR
