BEGIN:VCALENDAR
PRODID:-//eluceo/ical//2.0/EN
VERSION:2.0
CALSCALE:GREGORIAN
BEGIN:VEVENT
UID:1a9c3c1bdae64bd74df5b8a112fcdba7
DTSTAMP:20260424T145616Z
SUMMARY:Regionale Roundtable Jugendaustausch Distrikt 2000 Region C
DESCRIPTION:Referenten/innen: Nadja Klaus\, Präsidentin JuKo Distrikt 2000
 Marco Baur\, Mitglied JuKo Distrikt 2000
URL:https://rotary2000.ch/de/agenda/show/174278
DTSTART;TZID=Europe/Zurich:20240427T090000
DTEND;TZID=Europe/Zurich:20240427T120000
LOCATION:Casino Theater AG Winterthur\, Stadthausstrasse 119\, Winterthur
CATEGORIES:Rotary
END:VEVENT
BEGIN:VTIMEZONE
TZID:Europe/Zurich
BEGIN:DAYLIGHT
DTSTART:20240427T090000
TZNAME:CEST
TZOFFSETTO:+0200
TZOFFSETFROM:+0200
END:DAYLIGHT
END:VTIMEZONE
END:VCALENDAR
