BEGIN:VCALENDAR
PRODID:-//eluceo/ical//2.0/EN
VERSION:2.0
CALSCALE:GREGORIAN
BEGIN:VEVENT
UID:0cb5c1959f648e6571bd53d6f1ceddfd
DTSTAMP:20260424T180910Z
SUMMARY:Interdistrikt-Konferenz 2024 - Ausgebucht!
DESCRIPTION:
URL:https://rotary2000.ch/de/agenda/show/154154
DTSTART;TZID=Europe/Zurich:20240622T133000
DTEND;TZID=Europe/Zurich:20240622T235500
LOCATION:Bern
CATEGORIES:Rotary
END:VEVENT
BEGIN:VTIMEZONE
TZID:Europe/Zurich
BEGIN:DAYLIGHT
DTSTART:20240622T133000
TZNAME:CEST
TZOFFSETTO:+0200
TZOFFSETFROM:+0200
END:DAYLIGHT
END:VTIMEZONE
END:VCALENDAR
