BEGIN:VCALENDAR
PRODID:-//eluceo/ical//2.0/EN
VERSION:2.0
CALSCALE:GREGORIAN
BEGIN:VEVENT
UID:193bbb965971ac3c3c9a6ad4b921a237
DTSTAMP:20260421T225643Z
SUMMARY:Rotary Stamm
DESCRIPTION:Webseite: https://www.altersbetreuung.ch/Gastronomie/Restaurant
 -Ebnet?utm_source=restaurantguru&utm_medium=referral
URL:https://rotary-appenzell.ch/de/agenda/show/137086
DTSTART;TZID=Europe/Zurich:20220305T100000
DTEND;TZID=Europe/Zurich:20220305T120000
LOCATION:Restaurant Ebnet\, Ebnetstrasse 1\, 9100 Herisau\, Schweiz
CATEGORIES:Rotary
END:VEVENT
BEGIN:VTIMEZONE
TZID:Europe/Zurich
BEGIN:STANDARD
DTSTART:20220305T100000
TZNAME:CET
TZOFFSETTO:+0100
TZOFFSETFROM:+0100
END:STANDARD
END:VTIMEZONE
END:VCALENDAR
